Package: BioTIP Version: 1.21.0 Command: /Library/Frameworks/R.framework/Resources/bin/R CMD check --install=check:BioTIP.install-out.txt --library=/Library/Frameworks/R.framework/Resources/library --no-vignettes --timings BioTIP_1.21.0.tar.gz StartedAt: 2025-02-03 19:16:13 -0500 (Mon, 03 Feb 2025) EndedAt: 2025-02-03 19:19:56 -0500 (Mon, 03 Feb 2025) EllapsedTime: 223.1 seconds RetCode: 0 Status: WARNINGS CheckDir: BioTIP.Rcheck Warnings: 2