Package: BioQC Version: 1.37.0 Command: /Library/Frameworks/R.framework/Resources/bin/R CMD check --install=check:BioQC.install-out.txt --library=/Library/Frameworks/R.framework/Resources/library --no-vignettes --timings BioQC_1.37.0.tar.gz StartedAt: 2025-05-06 18:29:11 -0400 (Tue, 06 May 2025) EndedAt: 2025-05-06 18:29:36 -0400 (Tue, 06 May 2025) EllapsedTime: 24.4 seconds RetCode: 0 Status: OK CheckDir: BioQC.Rcheck Warnings: 0