Package: BioNet Version: 1.67.0 Command: /Library/Frameworks/R.framework/Resources/bin/R CMD check --install=check:BioNet.install-out.txt --library=/Library/Frameworks/R.framework/Resources/library --no-vignettes --timings BioNet_1.67.0.tar.gz StartedAt: 2025-02-04 19:12:25 -0500 (Tue, 04 Feb 2025) EndedAt: 2025-02-04 19:17:49 -0500 (Tue, 04 Feb 2025) EllapsedTime: 323.1 seconds RetCode: 0 Status: OK CheckDir: BioNet.Rcheck Warnings: 0