Package: BioNet Version: 1.67.0 Maintainer: Marcus Dittrich MaintainerEmail: marcus.dittrich at biozentrum.uni-wuerzburg.de git_url: https://git.bioconductor.org/packages/BioNet git_branch: devel git_last_commit: b06522b git_last_commit_date: 2024-10-29 09:34:30 -0500 (Tue, 29 Oct 2024)