Package: BioCartaImage Version: 1.5.0 Command: rm -rf BioCartaImage.buildbin-libdir && mkdir BioCartaImage.buildbin-libdir && E:\biocbuild\bbs-3.21-bioc\R\bin\R.exe CMD INSTALL --build --library=BioCartaImage.buildbin-libdir BioCartaImage_1.5.0.tar.gz StartedAt: 2025-02-06 07:34:56 -0500 (Thu, 06 Feb 2025) EndedAt: 2025-02-06 07:35:26 -0500 (Thu, 06 Feb 2025) EllapsedTime: 30.3 seconds RetCode: 0 Status: OK PackageFile: BioCartaImage_1.5.0.zip PackageFileSize: 3.668 MiB