Package: BioCartaImage Version: 1.7.0 Command: /Library/Frameworks/R.framework/Resources/bin/R CMD INSTALL BioCartaImage StartedAt: 2025-04-30 15:04:42 -0400 (Wed, 30 Apr 2025) EndedAt: 2025-04-30 15:05:29 -0400 (Wed, 30 Apr 2025) EllapsedTime: 46.8 seconds RetCode: 0 Status: OK