Package: BioCartaImage Version: 1.7.0 Command: /Library/Frameworks/R.framework/Resources/bin/R CMD check --install=check:BioCartaImage.install-out.txt --library=/Library/Frameworks/R.framework/Resources/library --no-vignettes --timings BioCartaImage_1.7.0.tar.gz StartedAt: 2025-05-01 19:14:41 -0400 (Thu, 01 May 2025) EndedAt: 2025-05-01 19:15:25 -0400 (Thu, 01 May 2025) EllapsedTime: 43.5 seconds RetCode: 0 Status: OK CheckDir: BioCartaImage.Rcheck Warnings: 0