Package: BioCartaImage Version: 1.7.0 Command: /Library/Frameworks/R.framework/Resources/bin/R CMD build --keep-empty-dirs --no-resave-data BioCartaImage StartedAt: 2025-05-01 16:03:43 -0400 (Thu, 01 May 2025) EndedAt: 2025-05-01 16:04:05 -0400 (Thu, 01 May 2025) EllapsedTime: 22.8 seconds RetCode: 0 Status: OK PackageFile: BioCartaImage_1.7.0.tar.gz PackageFileSize: 3.627 MiB