Package: BioCartaImage Version: 1.7.0 Command: rm -rf BioCartaImage.buildbin-libdir && mkdir BioCartaImage.buildbin-libdir && /Users/biocbuild/BBS/utils/build-universal.sh BioCartaImage_1.7.0.tar.gz /Library/Frameworks/R.framework/Resources/bin/R BioCartaImage.buildbin-libdir StartedAt: 2025-05-02 00:33:14 -0400 (Fri, 02 May 2025) EndedAt: 2025-05-02 00:33:21 -0400 (Fri, 02 May 2025) EllapsedTime: 7.0 seconds RetCode: 0 Status: OK PackageFile: BioCartaImage_1.7.0.tgz PackageFileSize: 3.666 MiB