Package: BioCartaImage Version: 1.7.0 Command: /Library/Frameworks/R.framework/Resources/bin/R CMD INSTALL BioCartaImage StartedAt: 2025-07-25 15:02:38 -0400 (Fri, 25 Jul 2025) EndedAt: 2025-07-25 15:02:48 -0400 (Fri, 25 Jul 2025) EllapsedTime: 9.8 seconds RetCode: 0 Status: OK