Package: BindingSiteFinder Version: 2.7.1 Command: /home/biocbuild/bbs-3.22-bioc/R/bin/R CMD INSTALL BindingSiteFinder StartedAt: 2025-09-29 15:45:42 -0400 (Mon, 29 Sep 2025) EndedAt: 2025-09-29 15:46:47 -0400 (Mon, 29 Sep 2025) EllapsedTime: 65.6 seconds RetCode: 0 Status: OK