Package: BicARE Version: 1.65.0 Command: E:\biocbuild\bbs-3.21-bioc\R\bin\R.exe CMD check --no-multiarch --install=check:BicARE.install-out.txt --library=E:\biocbuild\bbs-3.21-bioc\R\library --no-vignettes --timings BicARE_1.65.0.tar.gz StartedAt: 2025-02-09 22:55:51 -0500 (Sun, 09 Feb 2025) EndedAt: 2025-02-09 23:07:51 -0500 (Sun, 09 Feb 2025) EllapsedTime: 720.0 seconds RetCode: 0 Status: OK CheckDir: BicARE.Rcheck Warnings: 0