Package: BicARE Version: 1.65.0 Command: chmod a+r BicARE -R && E:\biocbuild\bbs-3.21-bioc\R\bin\R.exe CMD build --keep-empty-dirs --no-resave-data BicARE StartedAt: 2025-02-09 17:24:44 -0500 (Sun, 09 Feb 2025) EndedAt: 2025-02-09 17:28:05 -0500 (Sun, 09 Feb 2025) EllapsedTime: 201.2 seconds RetCode: 0 Status: OK PackageFile: BicARE_1.65.0.tar.gz PackageFileSize: 331.2 KiB