Package: BicARE Version: 1.65.0 Command: rm -rf BicARE.buildbin-libdir && mkdir BicARE.buildbin-libdir && E:\biocbuild\bbs-3.21-bioc\R\bin\R.exe CMD INSTALL --build --library=BicARE.buildbin-libdir BicARE_1.65.0.tar.gz StartedAt: 2025-02-10 07:16:51 -0500 (Mon, 10 Feb 2025) EndedAt: 2025-02-10 07:17:19 -0500 (Mon, 10 Feb 2025) EllapsedTime: 28.4 seconds RetCode: 0 Status: OK PackageFile: BicARE_1.65.0.zip PackageFileSize: 384.6 KiB