Package: BicARE Version: 1.67.0 Command: /home/biocbuild/bbs-3.22-bioc/R/bin/R CMD INSTALL BicARE StartedAt: 2025-10-22 15:39:16 -0400 (Wed, 22 Oct 2025) EndedAt: 2025-10-22 15:39:34 -0400 (Wed, 22 Oct 2025) EllapsedTime: 18.6 seconds RetCode: 0 Status: OK