Package: BicARE Version: 1.67.0 Command: /home/biocbuild/bbs-3.22-bioc/R/bin/R CMD build --keep-empty-dirs --no-resave-data --md5 BicARE StartedAt: 2025-10-22 16:26:15 -0400 (Wed, 22 Oct 2025) EndedAt: 2025-10-22 16:28:30 -0400 (Wed, 22 Oct 2025) EllapsedTime: 134.1 seconds RetCode: 0 Status: OK PackageFile: BicARE_1.67.0.tar.gz PackageFileSize: 461.2 KiB