Package: BicARE Version: 1.65.0 Command: /home/biocbuild/bbs-3.21-bioc/R/bin/R CMD build --keep-empty-dirs --no-resave-data BicARE StartedAt: 2025-02-03 16:27:37 -0500 (Mon, 03 Feb 2025) EndedAt: 2025-02-03 16:29:44 -0500 (Mon, 03 Feb 2025) EllapsedTime: 127.1 seconds RetCode: 0 Status: OK PackageFile: BicARE_1.65.0.tar.gz PackageFileSize: 460.3 KiB