Package: BicARE Version: 1.65.0 Command: /Library/Frameworks/R.framework/Resources/bin/R CMD INSTALL BicARE StartedAt: 2025-02-09 15:35:36 -0500 (Sun, 09 Feb 2025) EndedAt: 2025-02-09 15:36:03 -0500 (Sun, 09 Feb 2025) EllapsedTime: 27.3 seconds RetCode: 0 Status: OK