Package: BicARE Version: 1.65.0 Command: rm -rf BicARE.buildbin-libdir && mkdir BicARE.buildbin-libdir && /Users/biocbuild/BBS/utils/build-universal.sh BicARE_1.65.0.tar.gz /Library/Frameworks/R.framework/Resources/bin/R BicARE.buildbin-libdir StartedAt: 2025-02-10 00:43:23 -0500 (Mon, 10 Feb 2025) EndedAt: 2025-02-10 00:43:53 -0500 (Mon, 10 Feb 2025) EllapsedTime: 30.0 seconds RetCode: 0 Status: OK PackageFile: BicARE_1.65.0.tgz PackageFileSize: 506.9 KiB