Package: BicARE Version: 1.65.0 Command: /Library/Frameworks/R.framework/Resources/bin/R CMD build --keep-empty-dirs --no-resave-data BicARE StartedAt: 2025-02-05 15:40:29 -0500 (Wed, 05 Feb 2025) EndedAt: 2025-02-05 15:41:09 -0500 (Wed, 05 Feb 2025) EllapsedTime: 40.4 seconds RetCode: 0 Status: OK PackageFile: BicARE_1.65.0.tar.gz PackageFileSize: 460 KiB