Package: BiSeq Version: 1.47.0 Command: rm -rf BiSeq.buildbin-libdir && mkdir BiSeq.buildbin-libdir && E:\biocbuild\bbs-3.21-bioc\R\bin\R.exe CMD INSTALL --build --library=BiSeq.buildbin-libdir BiSeq_1.47.0.tar.gz StartedAt: 2025-02-04 07:34:53 -0500 (Tue, 04 Feb 2025) EndedAt: 2025-02-04 07:36:13 -0500 (Tue, 04 Feb 2025) EllapsedTime: 79.9 seconds RetCode: 0 Status: OK PackageFile: BiSeq_1.47.0.zip PackageFileSize: 1.164 MiB