Package: BiSeq Version: 1.47.0 Command: /home/biocbuild/bbs-3.21-bioc/R/bin/R CMD check --install=check:BiSeq.install-out.txt --library=/home/biocbuild/bbs-3.21-bioc/R/site-library --timings BiSeq_1.47.0.tar.gz StartedAt: 2025-02-03 20:38:04 -0500 (Mon, 03 Feb 2025) EndedAt: 2025-02-03 20:44:29 -0500 (Mon, 03 Feb 2025) EllapsedTime: 384.8 seconds RetCode: 0 Status: OK CheckDir: BiSeq.Rcheck Warnings: 0