Package: BiRewire Version: 3.41.0 Command: /home/biocbuild/bbs-3.22-bioc/R/bin/R CMD INSTALL BiRewire StartedAt: 2025-10-01 15:08:00 -0400 (Wed, 01 Oct 2025) EndedAt: 2025-10-01 15:08:14 -0400 (Wed, 01 Oct 2025) EllapsedTime: 13.5 seconds RetCode: 0 Status: OK