Package: BiRewire Version: 3.41.0 Command: /Library/Frameworks/R.framework/Resources/bin/R CMD build --keep-empty-dirs --no-resave-data BiRewire StartedAt: 2025-05-09 15:48:33 -0400 (Fri, 09 May 2025) EndedAt: 2025-05-09 15:48:59 -0400 (Fri, 09 May 2025) EllapsedTime: 26.3 seconds RetCode: 0 Status: OK PackageFile: BiRewire_3.41.0.tar.gz PackageFileSize: 726.2 KiB