Package: BiRewire Version: 3.41.0 Command: rm -rf BiRewire.buildbin-libdir && mkdir BiRewire.buildbin-libdir && /Users/biocbuild/BBS/utils/build-universal.sh BiRewire_3.41.0.tar.gz /Library/Frameworks/R.framework/Resources/bin/R BiRewire.buildbin-libdir StartedAt: 2025-05-09 22:33:42 -0400 (Fri, 09 May 2025) EndedAt: 2025-05-09 22:33:47 -0400 (Fri, 09 May 2025) EllapsedTime: 5.1 seconds RetCode: 0 Status: OK PackageFile: BiRewire_3.41.0.tgz PackageFileSize: 739.8 KiB