Package: BiGGR Version: 1.43.0 Command: E:\biocbuild\bbs-3.21-bioc\R\bin\R.exe CMD check --no-multiarch --install=check:BiGGR.install-out.txt --library=E:\biocbuild\bbs-3.21-bioc\R\library --no-vignettes --timings BiGGR_1.43.0.tar.gz StartedAt: 2025-02-16 22:48:29 -0500 (Sun, 16 Feb 2025) EndedAt: 2025-02-16 22:54:04 -0500 (Sun, 16 Feb 2025) EllapsedTime: 335.5 seconds RetCode: 0 Status: OK CheckDir: BiGGR.Rcheck Warnings: 0