Package: BiGGR Version: 1.45.1 Command: /home/biocbuild/bbs-3.22-bioc/R/bin/R CMD INSTALL BiGGR StartedAt: 2025-10-08 16:28:09 -0400 (Wed, 08 Oct 2025) EndedAt: 2025-10-08 16:28:10 -0400 (Wed, 08 Oct 2025) EllapsedTime: 0.2 seconds RetCode: 1 Status: ERROR