Package: BiGGR Version: 1.45.1 Command: /home/biocbuild/bbs-3.22-bioc/R/bin/R CMD build --keep-empty-dirs --no-resave-data --md5 BiGGR StartedAt: 2025-10-08 16:47:40 -0400 (Wed, 08 Oct 2025) EndedAt: 2025-10-08 16:47:41 -0400 (Wed, 08 Oct 2025) EllapsedTime: 1.0 seconds RetCode: 1 Status: ERROR PackageFile: None PackageFileSize: NA