Package: BiGGR Version: 1.43.0 Command: /home/biocbuild/bbs-3.21-bioc/R/bin/R CMD build --keep-empty-dirs --no-resave-data BiGGR StartedAt: 2025-02-16 16:21:48 -0500 (Sun, 16 Feb 2025) EndedAt: 2025-02-16 16:22:06 -0500 (Sun, 16 Feb 2025) EllapsedTime: 18.0 seconds RetCode: 0 Status: OK PackageFile: BiGGR_1.43.0.tar.gz PackageFileSize: 4.328 MiB