Package: BiGGR Version: 1.45.0 Maintainer: Anand K. Gavai MaintainerEmail: anand.gavai at bioinformatics.nl git_url: https://git.bioconductor.org/packages/BiGGR git_branch: devel git_last_commit: ef04b0a git_last_commit_date: 2025-04-15 10:26:14 -0400 (Tue, 15 Apr 2025)