Package: BiFET Version: 1.29.1 Command: /home/biocbuild/bbs-3.22-bioc/R/bin/R CMD INSTALL BiFET StartedAt: 2025-10-06 15:22:49 -0400 (Mon, 06 Oct 2025) EndedAt: 2025-10-06 15:22:57 -0400 (Mon, 06 Oct 2025) EllapsedTime: 8.5 seconds RetCode: 0 Status: OK