Package: BiFET Version: 1.29.1 Command: /home/biocbuild/bbs-3.22-bioc/R/bin/R CMD build --keep-empty-dirs --no-resave-data --md5 BiFET StartedAt: 2025-10-06 16:24:48 -0400 (Mon, 06 Oct 2025) EndedAt: 2025-10-06 16:25:41 -0400 (Mon, 06 Oct 2025) EllapsedTime: 53.0 seconds RetCode: 0 Status: OK PackageFile: BiFET_1.29.1.tar.gz PackageFileSize: 642.3 KiB