Package: BiFET Version: 1.29.1 Command: rm -rf BiFET.buildbin-libdir && mkdir BiFET.buildbin-libdir && /Users/biocbuild/BBS/utils/build-universal.sh BiFET_1.29.1.tar.gz /Library/Frameworks/R.framework/Resources/bin/R BiFET.buildbin-libdir StartedAt: 2025-10-01 22:39:28 -0400 (Wed, 01 Oct 2025) EndedAt: 2025-10-01 22:39:32 -0400 (Wed, 01 Oct 2025) EllapsedTime: 4.1 seconds RetCode: 0 Status: OK PackageFile: BiFET_1.29.1.tgz PackageFileSize: 658.3 KiB