Package: BgeeDB Version: 2.35.1 Command: /home/biocbuild/bbs-3.22-bioc/R/bin/R CMD INSTALL BgeeDB StartedAt: 2025-10-01 15:45:52 -0400 (Wed, 01 Oct 2025) EndedAt: 2025-10-01 15:46:44 -0400 (Wed, 01 Oct 2025) EllapsedTime: 51.7 seconds RetCode: 0 Status: OK