Package: BgeeDB Version: 2.35.1 Command: /home/biocbuild/bbs-3.22-bioc/R/bin/R CMD build --keep-empty-dirs --no-resave-data --md5 BgeeDB StartedAt: 2025-10-01 16:42:54 -0400 (Wed, 01 Oct 2025) EndedAt: 2025-10-01 16:48:36 -0400 (Wed, 01 Oct 2025) EllapsedTime: 342.4 seconds RetCode: 0 Status: OK PackageFile: BgeeDB_2.35.1.tar.gz PackageFileSize: 108.3 KiB