Package: BgeeDB Version: 2.35.0 Command: /Library/Frameworks/R.framework/Resources/bin/R CMD INSTALL BgeeDB StartedAt: 2025-05-02 15:32:17 -0400 (Fri, 02 May 2025) EndedAt: 2025-05-02 15:33:08 -0400 (Fri, 02 May 2025) EllapsedTime: 50.7 seconds RetCode: 0 Status: OK