Package: BgeeDB Version: 2.35.0 Command: /Library/Frameworks/R.framework/Resources/bin/R CMD check --install=check:BgeeDB.install-out.txt --library=/Library/Frameworks/R.framework/Resources/library --no-vignettes --timings BgeeDB_2.35.0.tar.gz StartedAt: 2025-05-08 18:23:20 -0400 (Thu, 08 May 2025) EndedAt: 2025-05-08 18:30:15 -0400 (Thu, 08 May 2025) EllapsedTime: 415.3 seconds RetCode: 0 Status: OK CheckDir: BgeeDB.Rcheck Warnings: 0