Package: BgeeCall Version: 1.23.0 Command: E:\biocbuild\bbs-3.21-bioc\R\bin\R.exe CMD INSTALL BgeeCall StartedAt: 2025-02-17 16:23:15 -0500 (Mon, 17 Feb 2025) EndedAt: 2025-02-17 16:24:14 -0500 (Mon, 17 Feb 2025) EllapsedTime: 58.8 seconds RetCode: 0 Status: OK