Package: BgeeCall Version: 1.25.0 Command: rm -rf BgeeCall.buildbin-libdir && mkdir BgeeCall.buildbin-libdir && /Users/biocbuild/BBS/utils/build-universal.sh BgeeCall_1.25.0.tar.gz /Library/Frameworks/R.framework/Resources/bin/R BgeeCall.buildbin-libdir StartedAt: 2025-10-02 01:39:30 -0400 (Thu, 02 Oct 2025) EndedAt: 2025-10-02 01:40:34 -0400 (Thu, 02 Oct 2025) EllapsedTime: 63.7 seconds RetCode: 0 Status: OK PackageFile: BgeeCall_1.25.0.tgz PackageFileSize: 6.006 MiB