Package: BgeeCall Version: 1.25.0 Maintainer: Julien Wollbrett MaintainerEmail: julien.wollbrett at unil.ch git_url: https://git.bioconductor.org/packages/BgeeCall git_branch: devel git_last_commit: a9b1373 git_last_commit_date: 2025-04-15 11:53:29 -0400 (Tue, 15 Apr 2025)