Package: BayesSpace Version: 1.19.4 Command: /home/biocbuild/bbs-3.22-bioc/R/bin/R CMD INSTALL BayesSpace StartedAt: 2025-10-03 15:54:41 -0400 (Fri, 03 Oct 2025) EndedAt: 2025-10-03 15:55:50 -0400 (Fri, 03 Oct 2025) EllapsedTime: 69.3 seconds RetCode: 0 Status: OK