Package: BayesSpace Version: 1.17.0 Command: /Library/Frameworks/R.framework/Resources/bin/R CMD build --keep-empty-dirs --no-resave-data BayesSpace StartedAt: 2025-02-03 16:01:31 -0500 (Mon, 03 Feb 2025) EndedAt: 2025-02-03 16:19:48 -0500 (Mon, 03 Feb 2025) EllapsedTime: 1097.4 seconds RetCode: 0 Status: OK PackageFile: BayesSpace_1.17.0.tar.gz PackageFileSize: 1.633 MiB