Package: BayesKnockdown Version: 1.33.0 Command: /home/biocbuild/bbs-3.21-bioc/R/bin/R CMD build --keep-empty-dirs --no-resave-data BayesKnockdown StartedAt: 2025-02-03 16:23:14 -0500 (Mon, 03 Feb 2025) EndedAt: 2025-02-03 16:23:21 -0500 (Mon, 03 Feb 2025) EllapsedTime: 7.0 seconds RetCode: 0 Status: OK PackageFile: BayesKnockdown_1.33.0.tar.gz PackageFileSize: 211.6 KiB