Package: BayesKnockdown Version: 1.33.0 Command: rm -rf BayesKnockdown.buildbin-libdir && mkdir BayesKnockdown.buildbin-libdir && /Users/biocbuild/BBS/utils/build-universal.sh BayesKnockdown_1.33.0.tar.gz /Library/Frameworks/R.framework/Resources/bin/R BayesKnockdown.buildbin-libdir StartedAt: 2025-02-04 00:23:36 -0500 (Tue, 04 Feb 2025) EndedAt: 2025-02-04 00:23:42 -0500 (Tue, 04 Feb 2025) EllapsedTime: 5.8 seconds RetCode: 0 Status: OK PackageFile: BayesKnockdown_1.33.0.tgz PackageFileSize: 225.7 KiB