Package: BayesKnockdown Version: 1.33.0 Command: /home/biocbuild/R/R/bin/R CMD INSTALL BayesKnockdown StartedAt: 2025-01-29 19:31:31 -0000 (Wed, 29 Jan 2025) EndedAt: 2025-01-29 19:32:06 -0000 (Wed, 29 Jan 2025) EllapsedTime: 34.4 seconds RetCode: 0 Status: OK