Package: BayesKnockdown Version: 1.33.0 Command: /home/biocbuild/R/R/bin/R CMD build --keep-empty-dirs --no-resave-data BayesKnockdown StartedAt: 2025-01-29 21:01:58 -0000 (Wed, 29 Jan 2025) EndedAt: 2025-01-29 21:02:06 -0000 (Wed, 29 Jan 2025) EllapsedTime: 8.0 seconds RetCode: 0 Status: OK PackageFile: BayesKnockdown_1.33.0.tar.gz PackageFileSize: 196 KiB