Package: BayesKnockdown Version: 1.33.0 Maintainer: William Chad Young MaintainerEmail: wmchad at uw.edu git_url: https://git.bioconductor.org/packages/BayesKnockdown git_branch: devel git_last_commit: ee329ba git_last_commit_date: 2024-10-29 10:13:05 -0500 (Tue, 29 Oct 2024)