Package: BatchSVG Version: 1.3.0 Command: /home/biocbuild/bbs-3.23-bioc/R/bin/R CMD INSTALL BatchSVG StartedAt: 2025-11-05 15:59:44 -0500 (Wed, 05 Nov 2025) EndedAt: 2025-11-05 16:00:10 -0500 (Wed, 05 Nov 2025) EllapsedTime: 26.0 seconds RetCode: 0 Status: OK