Package: BatchSVG Version: 1.3.0 Command: /home/biocbuild/bbs-3.23-bioc/R/bin/R CMD build --keep-empty-dirs --no-resave-data BatchSVG StartedAt: 2025-11-05 16:26:47 -0500 (Wed, 05 Nov 2025) EndedAt: 2025-11-05 16:29:42 -0500 (Wed, 05 Nov 2025) EllapsedTime: 174.1 seconds RetCode: 0 Status: OK PackageFile: BatchSVG_1.3.0.tar.gz PackageFileSize: 1.538 MiB