Package: BatchSVG Version: 1.1.1 Command: /Library/Frameworks/R.framework/Resources/bin/R CMD INSTALL BatchSVG StartedAt: 2025-10-07 15:43:21 -0400 (Tue, 07 Oct 2025) EndedAt: 2025-10-07 15:43:58 -0400 (Tue, 07 Oct 2025) EllapsedTime: 37.2 seconds RetCode: 0 Status: OK